BEGIN:VCALENDAR
VERSION:2.0
PRODID:-//hacksw/handcal//NONSGML v1.0//EN
BEGIN:VEVENT
SUMMARY:CHAMPIONNAT PHASE 2 EQUIPE 5
UID:afcf0901-84a9-4248-98db-9b150d6838d7
DTSTART:20260423T220000Z
DTEND:20260424T220000Z
LOCATION:Localisation   
CATEGORIES:Sportif
STATUS:
DESCRIPTION:<p><span style="font-size:18px;">Match
 avance </span></p>
URL;VALUE=URI:https://dunoisepongiste.sportsregions.fr/evenements/2026/04/24/championnat-phase-2-equipe-5-2443022
END:VEVENT
END:VCALENDAR
