BEGIN:VCALENDAR
VERSION:2.0
PRODID:-//hacksw/handcal//NONSGML v1.0//EN
BEGIN:VEVENT
SUMMARY:CHAMPIONNAT PHASE 2 FEMININES
UID:4a9920d9-0ff2-4e25-895b-cd8914d4e831
DTSTART:20260410T220000Z
DTEND:20260411T220000Z
LOCATION:Localisation   
CATEGORIES:Sportif
STATUS:
URL;VALUE=URI:https://dunoisepongiste.sportsregions.fr/evenements/2026/04/11/championnat-phase-2-feminines-2437577
END:VEVENT
END:VCALENDAR
