BEGIN:VCALENDAR
VERSION:2.0
PRODID:-//hacksw/handcal//NONSGML v1.0//EN
BEGIN:VEVENT
SUMMARY:CHAMPIONNAT PHASE 2 EQUIPE 6
UID:45855e20-843d-4594-a4a4-e479a490acb2
DTSTART:20260409T220000Z
DTEND:20260410T220000Z
LOCATION:Localisation   
CATEGORIES:Sportif
STATUS:
URL;VALUE=URI:https://dunoisepongiste.sportsregions.fr/evenements/2026/04/10/championnat-phase-2-equipe-6-2437594
END:VEVENT
END:VCALENDAR
