BEGIN:VCALENDAR
VERSION:2.0
PRODID:-//hacksw/handcal//NONSGML v1.0//EN
BEGIN:VEVENT
SUMMARY:CHAMPIONNAT PHASE 2 EQUIPE 5
UID:40d8d541-00f7-4a72-8ab8-f2314eed4e5f
DTSTART:20260409T220000Z
DTEND:20260410T220000Z
LOCATION:Localisation   
CATEGORIES:Sportif
STATUS:
URL;VALUE=URI:https://dunoisepongiste.sportsregions.fr/evenements/2026/04/10/championnat-phase-2-equipe-5-2437589
END:VEVENT
END:VCALENDAR
